BEGIN:VCALENDAR
VERSION:2.0
PRODID:-//Tidelands Amateur Radio Society - ECPv6.15.20//NONSGML v1.0//EN
CALSCALE:GREGORIAN
METHOD:PUBLISH
X-WR-CALNAME:Tidelands Amateur Radio Society
X-ORIGINAL-URL:https://www.tidelands.org
X-WR-CALDESC:Events for Tidelands Amateur Radio Society
REFRESH-INTERVAL;VALUE=DURATION:PT1H
X-Robots-Tag:noindex
X-PUBLISHED-TTL:PT1H
BEGIN:VTIMEZONE
TZID:America/Chicago
BEGIN:DAYLIGHT
TZOFFSETFROM:-0600
TZOFFSETTO:-0500
TZNAME:CDT
DTSTART:20250309T080000
END:DAYLIGHT
BEGIN:STANDARD
TZOFFSETFROM:-0500
TZOFFSETTO:-0600
TZNAME:CST
DTSTART:20251102T070000
END:STANDARD
BEGIN:DAYLIGHT
TZOFFSETFROM:-0600
TZOFFSETTO:-0500
TZNAME:CDT
DTSTART:20260308T080000
END:DAYLIGHT
BEGIN:STANDARD
TZOFFSETFROM:-0500
TZOFFSETTO:-0600
TZNAME:CST
DTSTART:20261101T070000
END:STANDARD
BEGIN:DAYLIGHT
TZOFFSETFROM:-0600
TZOFFSETTO:-0500
TZNAME:CDT
DTSTART:20270314T080000
END:DAYLIGHT
BEGIN:STANDARD
TZOFFSETFROM:-0500
TZOFFSETTO:-0600
TZNAME:CST
DTSTART:20271107T070000
END:STANDARD
END:VTIMEZONE
BEGIN:VEVENT
DTSTART;TZID=America/Chicago:20260423T140000
DTEND;TZID=America/Chicago:20260423T160000
DTSTAMP:20260423T070748
CREATED:20251015T153512Z
LAST-MODIFIED:20251015T153519Z
UID:10000373-1776952800-1776960000@www.tidelands.org
SUMMARY:Tidelands Ragchew
DESCRIPTION:Tidelands Ragchew \n\n\n\nJoin us daily\, 7 days a week\, for a general Ragchew on the local TARS 2m Repeater\, Frequency of 147.140  Tone 167.9 \n\n\n\nRagchews and QSO’s  are also available 24/7 on “Wayne’s World” courtesy of member Wayne Welsh\, K5WLW. \n\n\n\nSimplex frequency =145.650 MHz PL = 167.9 HzEcholink # 360201 or K5WLW-LAllstar node # 41730
URL:https://www.tidelands.org/event/tidelands-ragchew/2026-04-23/
CATEGORIES:Miscellaneous Events
END:VEVENT
BEGIN:VEVENT
DTSTART;TZID=America/Chicago:20260423T190000
DTEND;TZID=America/Chicago:20260423T210000
DTSTAMP:20260423T070748
CREATED:20251015T151323Z
LAST-MODIFIED:20251015T152854Z
UID:10000164-1776970800-1776978000@www.tidelands.org
SUMMARY:GCECG Monthly Meeting
DESCRIPTION:GCECG Regular Monthly Meeting \n\n\n\nThe GCECG is the official volunteer support group for emergency communications for the Galveston County (Texas) Office of Emergency Management. \n\n\n\nWe meet at the Living Faith Outreach Church on the fourth Thursday of each month.It is located at 3700 Deats Rd\, Dickinson\, TX 77539.The meeting starts at 7 pm\, but many of us gather early for a gourmet dinner around 5:30 pm at the Whataburger in front of the Walmart at 646 and I45n. All amateur radio operators and those interested in amateur radio are welcome to attend! \n\n\n\nPlease Click the link below for a Map to Living Faith Outreach Church. \n\n\n\nLiving Faith Outreach Church – Google Maps
URL:https://www.tidelands.org/event/gcecg-monthly-meeting/2026-04-23/
LOCATION:Living Faith Outreach Church\, 3700 Deats Rd\, Dickinson\, Texas\, 77539\, United States
CATEGORIES:GCECG Events
END:VEVENT
BEGIN:VEVENT
DTSTART;TZID=America/Chicago:20260425T070000
DTEND;TZID=America/Chicago:20260425T090000
DTSTAMP:20260423T070748
CREATED:20251015T152115Z
LAST-MODIFIED:20251015T152122Z
UID:10000077-1777100400-1777107600@www.tidelands.org
SUMMARY:TARS Saturday Breakfast
DESCRIPTION:Tidelands Saturday Breakfast Gathering for all Members and Visitors
URL:https://www.tidelands.org/event/tars-saturday-breakfast-2/2026-04-25/
LOCATION:Nopalera Grill\, 1736 Texas Ave\, Texas City\, Texas\, 77590\, United States
CATEGORIES:Miscellaneous Events
END:VEVENT
BEGIN:VEVENT
DTSTART;TZID=America/Chicago:20260514T190000
DTEND;TZID=America/Chicago:20260514T210000
DTSTAMP:20260423T070748
CREATED:20210126T072629Z
LAST-MODIFIED:20251015T150425Z
UID:10000007-1778785200-1778792400@www.tidelands.org
SUMMARY:TARS Monthly Meeting
DESCRIPTION:Tidelands Amateur Radio Society (TARS) Regular Monthly Meeting \n\n\n\nWe meet at the Living Faith Outreach Church on the second Thursday of each month. It is located at 3700 Deats Rd\, Dickinson\, TX 77539. The meeting starts at 7 pm\, but many of us gather early around 6:30 pm to catch up or just visit. All amateur radio operators and those interested in amateur radio are welcome to attend!
URL:https://www.tidelands.org/event/tars-monthly-meeting-6-2023-02-09/2026-05-14/
LOCATION:Living Faith Outreach Church\, 3700 Deats Rd\, Dickinson\, Texas\, 77539\, United States
CATEGORIES:TARS Monthly Meetings
ORGANIZER;CN="Tidelands Amateur Radio Society (TARS)":MAILTO:info@tidelands.org
END:VEVENT
BEGIN:VEVENT
DTSTART;TZID=America/Chicago:20260711T080000
DTEND;TZID=America/Chicago:20260711T140000
DTSTAMP:20260423T070748
CREATED:20251015T152507Z
LAST-MODIFIED:20260213T144439Z
UID:10000157-1783756800-1783778400@www.tidelands.org
SUMMARY:Tidelands Texas City Hamfest 2026
DESCRIPTION:We look forward to seeing you and meeting you this summer\, \n\n\n\n73’s \n\n\n\nBo Thomas. KT1AA\, TARS President \n\n\n\nTidelands Annual Hamfest \n\n\n\nSpeakers: \n\n\n\nHVRA Auction: \n\n\n\nDoor Prizes: \n\n\n\nVendor Tables: Available for Purchase here \n\n\n\nGeneral Tables:  Available for Purchase here \n\n\n\nGeneral Admissions:  Available for Purchase here \n\n\n\nDownload 2026 Hamfest Registration Form
URL:https://www.tidelands.org/event/tidelands-texas-city-hamfest-2026/
LOCATION:Charles T. Doyle Convention Center\, 2010 5th Avenue North\, Texas City\, TX\, 77590\, United States
CATEGORIES:Hamfest
END:VEVENT
END:VCALENDAR